BEGIN:VCALENDAR
VERSION:2.0
PRODID:-//Manu-to-go - ECPv6.3.7//NONSGML v1.0//EN
CALSCALE:GREGORIAN
METHOD:PUBLISH
X-WR-CALNAME:Manu-to-go
X-ORIGINAL-URL:https://manu-to-go.de
X-WR-CALDESC:Veranstaltungen für Manu-to-go
REFRESH-INTERVAL;VALUE=DURATION:PT1H
X-Robots-Tag:noindex
X-PUBLISHED-TTL:PT1H
BEGIN:VTIMEZONE
TZID:Europe/Berlin
BEGIN:DAYLIGHT
TZOFFSETFROM:+0100
TZOFFSETTO:+0200
TZNAME:CEST
DTSTART:20210328T010000
END:DAYLIGHT
BEGIN:STANDARD
TZOFFSETFROM:+0200
TZOFFSETTO:+0100
TZNAME:CET
DTSTART:20211031T010000
END:STANDARD
END:VTIMEZONE
BEGIN:VEVENT
DTSTART;VALUE=DATE:20210509
DTEND;VALUE=DATE:20210516
DTSTAMP:20260425T132130
CREATED:20201217T214610Z
LAST-MODIFIED:20210723T122804Z
UID:1237-1620518400-1621123199@manu-to-go.de
SUMMARY:ABGESAGT_Wikinger Reisen - Wandern & Relaxen auf der Halbinsel Fischland-Darß-Zingst
DESCRIPTION:Steinfreie Strände\, Küstenwälder und Dünenlandschaften\, geschützte Moore\, weite Wiesen und verschilfte Boddenufer – das ist die Halbinsel Fischland-Darß-Zingst. Das Bild der Umgebung wird geprägt von alten Bauernhöfen und Katen sowie historischen Kapitänshäusern aus der Zeit der großen Segler. Dort laufen noch heute die Fischerboote aus und lassen die Herzen der Segelfreunde höher schlagen. Entdecke mit uns auf interessanten Wanderungen die vielfältige und abwechslungsreiche Ostseelandschaft. \nBuchung: Wikinger Reisen \nhttps://www.wikinger-reisen.de/wanderreisen/deutschland/mecklenburg-vorpommern/5665.php
URL:https://manu-to-go.de/event/wikinger-resien-wandern-relaxen-auf-der-halbinsel-fischland-darss-zingst/
LOCATION:Ostseehotel Diernhagen\, Wiesenweg 1\, Diernhagen\, Mecklenburg-Vorpommern\, 18347\, Deutschland
CATEGORIES:Gesundheitswandern,Ostsee,Wandern,Wikinger Reisen
END:VEVENT
END:VCALENDAR